BEGIN:VCALENDAR
VERSION:2.0
PRODID:-//Babyconnect - ECPv6.15.13//NONSGML v1.0//EN
CALSCALE:GREGORIAN
METHOD:PUBLISH
X-ORIGINAL-URL:https://babyconnect.org
X-WR-CALDESC:Events for Babyconnect
REFRESH-INTERVAL;VALUE=DURATION:PT1H
X-Robots-Tag:noindex
X-PUBLISHED-TTL:PT1H
BEGIN:VTIMEZONE
TZID:Europe/Amsterdam
BEGIN:DAYLIGHT
TZOFFSETFROM:+0100
TZOFFSETTO:+0200
TZNAME:CEST
DTSTART:20200329T010000
END:DAYLIGHT
BEGIN:STANDARD
TZOFFSETFROM:+0200
TZOFFSETTO:+0100
TZNAME:CET
DTSTART:20201025T010000
END:STANDARD
BEGIN:DAYLIGHT
TZOFFSETFROM:+0100
TZOFFSETTO:+0200
TZNAME:CEST
DTSTART:20210328T010000
END:DAYLIGHT
BEGIN:STANDARD
TZOFFSETFROM:+0200
TZOFFSETTO:+0100
TZNAME:CET
DTSTART:20211031T010000
END:STANDARD
BEGIN:DAYLIGHT
TZOFFSETFROM:+0100
TZOFFSETTO:+0200
TZNAME:CEST
DTSTART:20220327T010000
END:DAYLIGHT
BEGIN:STANDARD
TZOFFSETFROM:+0200
TZOFFSETTO:+0100
TZNAME:CET
DTSTART:20221030T010000
END:STANDARD
END:VTIMEZONE
BEGIN:VEVENT
DTSTART;TZID=Europe/Amsterdam:20211101T110000
DTEND;TZID=Europe/Amsterdam:20211101T120000
DTSTAMP:20260420T000805
CREATED:20211013T152147Z
LAST-MODIFIED:20211014T074630Z
UID:250495-1635764400-1635768000@babyconnect.org
SUMMARY:Kennistafel DVZA
DESCRIPTION:Op maandag 1 november 11.00-12.00 uur organiseert VIPP Babyconnect samen MedMij een kennistafel over DVZA. Naast een uitleg over kwalificatie geboortezorg voor de DVZA door MedMij is er ook gelegenheid voor het stellen van vragen. \nDeze kennistafel is bedoeld voor technische projectleiders en andere geïnteresseerden. \nAanmelden\nMeld je uiterlijk woensdag 27 oktober aan via het aanmeldformulier.\nJe ontvangt dan diezelfde week de uitnodiging met bijbehorende Teams link.
URL:https://babyconnect.org/agenda/kennistafel-dvza/
CATEGORIES:Trainingen
END:VEVENT
BEGIN:VEVENT
DTSTART;TZID=Europe/Amsterdam:20211015T120000
DTEND;TZID=Europe/Amsterdam:20211015T140000
DTSTAMP:20260420T000805
CREATED:20210915T084739Z
LAST-MODIFIED:20211012T135803Z
UID:249757-1634299200-1634306400@babyconnect.org
SUMMARY:Kennistafel inrichten projectorganisatie
DESCRIPTION:Hoe richt je de projectorganisatie voor VIPP Babyconnect zo in dat dit het behalen van de resultaten stimuleert? In een online kennistafel op donderdag 23 september van 10.30 tot 12.30 uur en vrijdag 15 oktober van 12.00 – 14.00 gaan we hierop in. Als ervaren projectleider ben jij bedreven in het inrichten van een goede projectorganisatie. Toch is VIPP Babyconnect uitdagend omdat voor de meeste VSV’s of IGO’s projectmatig werken niet standaard is. \nBetrokkenheid eindgebruikers\nEindgebruikers spelen in VIPP Babyconnect een essentiële rol. In de VSV’s/IGO’s zijn de eindgebruikers allemaal vertegenwoordigd: cliënt – zorgverlener – zorgorganisatie en data-analist/onderzoeker. Voor het behalen van de resultaten VIPP Babyconnect is het dan ook belangrijk dat de projectorganisatie hierbij aansluit en de betrokkenheid\, zeggenschap en positie van de eindgebruiker in de projectorganisatie geborgd is. Naast het betrekken van eindgebruikers is de verbinding van de projectorganisatie met de VSV’s en IGO’s belangrijk. Elke VSV/IGO heeft een eigen samenstelling\, organisatiegraad en communicatiestructuur. Ken je de VSV’s/IGO’s? Hoe koppel je ze aan je projectorganisatie? Om tot inzichten en antwoorden te komen hebben we  gevraagd samen met ons een kennistafel te organiseren. DNH richt zich op zorgprofessionals met een bestuurlijke rol. \nDoel\nMet deze kennistafel krijg je inzicht in wat nodig is om een passende projectorganisatie voor VIPP Babyconnect in te richten.  In twee online bijeenkomsten gaan we met jullie (projectleiders coördinerend of zorg) aan de slag. Elke bijeenkomst duurt twee uur en er kunnen maximaal 9 mensen deelnemen. We streven naar vertegenwoordiging vanuit elk partnerschap. \nNa deze kennistafel:\n\nWeet je hoe de VSV’s/IGO’s in je partnerschap georganiseerd zijn en wat de verschillen zijn.\nHeb je inzicht in wat de rol van de eindgebruiker in VIPP Babyconnect is. Zowel regionaal als landelijk.\nHeb je overzicht welke beroepsgroepen en partijen er in je partnerschap vertegenwoordigd zouden moeten zijn en welke mogelijk nog aangevuld moeten worden.\nHeb je weet van communicatiestructuren\, manier van afstemming en mandaat binnen VSV’s/IGO’s.\nIs duidelijk hoe de deelnemende VSV’s/IGO’s verbonden zijn aan jouw projectorganisatie.\nHeb je nagedacht over hoe de lijnen lopen binnen je partnerschap om de projectresultaten in de praktijk te implementeren.\n\nAanmelden\nMeld je uiterlijk woensdag 15 september aan via info@carecodex.org. Je ontvangt dan diezelfde week een agenda met voorbereidende vragen en uitnodiging met bijbehorende Teams link.
URL:https://babyconnect.org/agenda/kennistafel-inrichten-projectorganisatie-2/
CATEGORIES:Trainingen
END:VEVENT
BEGIN:VEVENT
DTSTART;TZID=Europe/Amsterdam:20211004T160000
DTEND;TZID=Europe/Amsterdam:20211004T170000
DTSTAMP:20260420T000805
CREATED:20210726T133447Z
LAST-MODIFIED:20210726T133725Z
UID:247031-1633363200-1633366800@babyconnect.org
SUMMARY:Module eindgebruikers
DESCRIPTION:Eindgebruikers spelen een belangrijke rol binnen VIPP Babyconnect. In deze module lichten we de vier eindgebruikersgroepen (cliënten\, zorgverleners\, zorgorganisaties en data-analisten) en het werken met deze groepen toe. \nMeer over deze module vind je hier.
URL:https://babyconnect.org/agenda/module-eindgebruikers-2/
CATEGORIES:Trainingen
END:VEVENT
BEGIN:VEVENT
DTSTART;TZID=Europe/Amsterdam:20210906T160000
DTEND;TZID=Europe/Amsterdam:20210906T170000
DTSTAMP:20260420T000805
CREATED:20210726T121732Z
LAST-MODIFIED:20210726T131250Z
UID:247015-1630944000-1630947600@babyconnect.org
SUMMARY:Module eindgebruikers
DESCRIPTION:Eindgebruikers spelen een belangrijke rol binnen VIPP Babyconnect. In deze module lichten we de vier eindgebruikersgroepen (cliënten\, zorgverleners\, zorgorganisaties en data-analisten) en het werken met deze groepen toe. \nMeer over deze module vind je hier.
URL:https://babyconnect.org/agenda/module-eindgebruikers/
CATEGORIES:Trainingen
END:VEVENT
END:VCALENDAR